Package: getDEE2 Version: 1.14.0 Command: rm -rf getDEE2.buildbin-libdir && mkdir getDEE2.buildbin-libdir && E:\biocbuild\bbs-3.19-bioc\R\bin\R.exe CMD INSTALL --build --library=getDEE2.buildbin-libdir getDEE2_1.14.0.tar.gz StartedAt: 2024-10-17 07:52:42 -0400 (Thu, 17 Oct 2024) EndedAt: 2024-10-17 07:53:11 -0400 (Thu, 17 Oct 2024) EllapsedTime: 28.5 seconds RetCode: 0 Status: OK PackageFile: getDEE2_1.14.0.zip PackageFileSize: 77.5 KiB