Package: getDEE2 Version: 1.14.0 Command: chmod a+r getDEE2 -R && F:\biocbuild\bbs-3.19-bioc\R\bin\R.exe CMD build --keep-empty-dirs --no-resave-data getDEE2 StartedAt: 2024-06-26 19:11:10 -0400 (Wed, 26 Jun 2024) EndedAt: 2024-06-26 19:12:29 -0400 (Wed, 26 Jun 2024) EllapsedTime: 78.5 seconds RetCode: 0 Status: OK PackageFile: getDEE2_1.14.0.tar.gz PackageFileSize: 21.72 KiB