Package: getDEE2 Version: 1.14.0 Command: rm -rf getDEE2.buildbin-libdir && mkdir getDEE2.buildbin-libdir && F:\biocbuild\bbs-3.19-bioc\R\bin\R.exe CMD INSTALL --build --library=getDEE2.buildbin-libdir getDEE2_1.14.0.tar.gz StartedAt: 2024-06-27 08:17:17 -0400 (Thu, 27 Jun 2024) EndedAt: 2024-06-27 08:17:51 -0400 (Thu, 27 Jun 2024) EllapsedTime: 33.4 seconds RetCode: 0 Status: OK PackageFile: getDEE2_1.14.0.zip PackageFileSize: 77.35 KiB