Package: getDEE2 Version: 1.14.0 Command: /home/biocbuild/bbs-3.19-bioc/R/bin/R CMD INSTALL getDEE2 StartedAt: 2024-10-16 15:55:58 -0400 (Wed, 16 Oct 2024) EndedAt: 2024-10-16 15:56:17 -0400 (Wed, 16 Oct 2024) EllapsedTime: 19.0 seconds RetCode: 0 Status: OK