Package: getDEE2 Version: 1.14.0 Command: /home/biocbuild/bbs-3.19-bioc/R/bin/R CMD build --keep-empty-dirs --no-resave-data getDEE2 StartedAt: 2024-10-16 18:42:25 -0400 (Wed, 16 Oct 2024) EndedAt: 2024-10-16 18:44:20 -0400 (Wed, 16 Oct 2024) EllapsedTime: 115.3 seconds RetCode: 0 Status: OK PackageFile: getDEE2_1.14.0.tar.gz PackageFileSize: 21.71 KiB