Package: getDEE2 Version: 1.14.0 Command: /Library/Frameworks/R.framework/Resources/bin/R CMD INSTALL getDEE2 StartedAt: 2024-10-16 15:18:27 -0400 (Wed, 16 Oct 2024) EndedAt: 2024-10-16 15:19:15 -0400 (Wed, 16 Oct 2024) EllapsedTime: 48.1 seconds RetCode: 0 Status: OK