Package: getDEE2 Version: 1.14.0 Command: /Library/Frameworks/R.framework/Resources/bin/R CMD check --install=check:getDEE2.install-out.txt --library=/Library/Frameworks/R.framework/Resources/library --no-vignettes --timings getDEE2_1.14.0.tar.gz StartedAt: 2024-10-17 23:09:17 -0400 (Thu, 17 Oct 2024) EndedAt: 2024-10-17 23:14:41 -0400 (Thu, 17 Oct 2024) EllapsedTime: 323.5 seconds RetCode: 0 Status: OK CheckDir: getDEE2.Rcheck Warnings: 0