Package: getDEE2 Version: 1.14.0 Command: /Library/Frameworks/R.framework/Resources/bin/R CMD build --keep-empty-dirs --no-resave-data getDEE2 StartedAt: 2024-10-17 01:16:30 -0400 (Thu, 17 Oct 2024) EndedAt: 2024-10-17 01:18:06 -0400 (Thu, 17 Oct 2024) EllapsedTime: 96.2 seconds RetCode: 0 Status: OK PackageFile: getDEE2_1.14.0.tar.gz PackageFileSize: 21.54 KiB