Package: getDEE2 Version: 1.14.0 Command: rm -rf getDEE2.buildbin-libdir && mkdir getDEE2.buildbin-libdir && /Users/biocbuild/BBS/utils/build-universal.sh getDEE2_1.14.0.tar.gz /Library/Frameworks/R.framework/Resources/bin/R getDEE2.buildbin-libdir StartedAt: 2024-10-18 18:43:19 -0400 (Fri, 18 Oct 2024) EndedAt: 2024-10-18 18:43:49 -0400 (Fri, 18 Oct 2024) EllapsedTime: 29.9 seconds RetCode: 0 Status: OK PackageFile: getDEE2_1.14.0.tgz PackageFileSize: 72.08 KiB