Package: gespeR Version: 1.36.0 Command: rm -rf gespeR.buildbin-libdir && mkdir gespeR.buildbin-libdir && E:\biocbuild\bbs-3.19-bioc\R\bin\R.exe CMD INSTALL --build --library=gespeR.buildbin-libdir gespeR_1.36.0.tar.gz StartedAt: 2024-10-17 07:52:40 -0400 (Thu, 17 Oct 2024) EndedAt: 2024-10-17 07:53:26 -0400 (Thu, 17 Oct 2024) EllapsedTime: 46.7 seconds RetCode: 0 Status: OK PackageFile: gespeR_1.36.0.zip PackageFileSize: 2.762 MiB