Package: gespeR Version: 1.36.0 Command: /home/biocbuild/bbs-3.19-bioc/R/bin/R CMD check --install=check:gespeR.install-out.txt --library=/home/biocbuild/bbs-3.19-bioc/R/site-library --timings gespeR_1.36.0.tar.gz StartedAt: 2024-06-30 23:38:05 -0400 (Sun, 30 Jun 2024) EndedAt: 2024-06-30 23:43:03 -0400 (Sun, 30 Jun 2024) EllapsedTime: 298.7 seconds RetCode: 0 Status: WARNINGS CheckDir: gespeR.Rcheck Warnings: 1