Package: gespeR Version: 1.36.0 Command: /home/biocbuild/bbs-3.19-bioc/R/bin/R CMD build --keep-empty-dirs --no-resave-data gespeR StartedAt: 2024-10-16 18:42:25 -0400 (Wed, 16 Oct 2024) EndedAt: 2024-10-16 18:43:07 -0400 (Wed, 16 Oct 2024) EllapsedTime: 42.1 seconds RetCode: 1 Status: ERROR PackageFile: None PackageFileSize: NA