Package: gespeR Version: 1.36.0 Command: /Library/Frameworks/R.framework/Resources/bin/R CMD build --keep-empty-dirs --no-resave-data gespeR StartedAt: 2024-10-16 19:34:19 -0400 (Wed, 16 Oct 2024) EndedAt: 2024-10-16 19:36:11 -0400 (Wed, 16 Oct 2024) EllapsedTime: 111.8 seconds RetCode: 1 Status: ERROR PackageFile: None PackageFileSize: NA