Package: gespeR Version: 1.36.0 Command: rm -rf gespeR.buildbin-libdir && mkdir gespeR.buildbin-libdir && /Users/biocbuild/BBS/utils/build-universal.sh gespeR_1.36.0.tar.gz /Library/Frameworks/R.framework/Resources/bin/R gespeR.buildbin-libdir StartedAt: 2024-06-10 00:20:08 -0400 (Mon, 10 Jun 2024) EndedAt: 2024-06-10 00:20:50 -0400 (Mon, 10 Jun 2024) EllapsedTime: 41.8 seconds RetCode: 0 Status: OK PackageFile: gespeR_1.36.0.tgz PackageFileSize: 2.785 MiB