Package: gespeR Version: 1.36.0 Command: /Library/Frameworks/R.framework/Resources/bin/R CMD build --keep-empty-dirs --no-resave-data gespeR StartedAt: 2024-06-09 22:09:09 -0400 (Sun, 09 Jun 2024) EndedAt: 2024-06-09 22:10:17 -0400 (Sun, 09 Jun 2024) EllapsedTime: 68.2 seconds RetCode: 0 Status: OK PackageFile: gespeR_1.36.0.tar.gz PackageFileSize: 24.33 MiB