Package: gespeR Version: 1.36.0 Command: /Library/Frameworks/R.framework/Resources/bin/R CMD build --keep-empty-dirs --no-resave-data gespeR StartedAt: 2024-10-17 01:15:54 -0400 (Thu, 17 Oct 2024) EndedAt: 2024-10-17 01:16:50 -0400 (Thu, 17 Oct 2024) EllapsedTime: 55.9 seconds RetCode: 1 Status: ERROR PackageFile: None PackageFileSize: NA