Package: gep2pep Version: 1.24.0 Command: E:\biocbuild\bbs-3.19-bioc\R\bin\R.exe CMD INSTALL gep2pep StartedAt: 2024-10-16 16:52:09 -0400 (Wed, 16 Oct 2024) EndedAt: 2024-10-16 16:52:35 -0400 (Wed, 16 Oct 2024) EllapsedTime: 26.5 seconds RetCode: 0 Status: OK