Package: gep2pep Version: 1.24.0 Command: chmod a+r gep2pep -R && E:\biocbuild\bbs-3.19-bioc\R\bin\R.exe CMD build --keep-empty-dirs --no-resave-data gep2pep StartedAt: 2024-10-16 19:25:47 -0400 (Wed, 16 Oct 2024) EndedAt: 2024-10-16 19:26:26 -0400 (Wed, 16 Oct 2024) EllapsedTime: 39.2 seconds RetCode: 0 Status: OK PackageFile: gep2pep_1.24.0.tar.gz PackageFileSize: 121.9 KiB