Package: gep2pep Version: 1.24.0 Command: chmod a+r gep2pep -R && F:\biocbuild\bbs-3.19-bioc\R\bin\R.exe CMD build --keep-empty-dirs --no-resave-data gep2pep StartedAt: 2024-06-26 19:10:44 -0400 (Wed, 26 Jun 2024) EndedAt: 2024-06-26 19:11:19 -0400 (Wed, 26 Jun 2024) EllapsedTime: 35.5 seconds RetCode: 0 Status: OK PackageFile: gep2pep_1.24.0.tar.gz PackageFileSize: 122 KiB