Package: gep2pep Version: 1.24.0 Command: /Library/Frameworks/R.framework/Resources/bin/R CMD INSTALL gep2pep StartedAt: 2024-10-16 16:10:50 -0400 (Wed, 16 Oct 2024) EndedAt: 2024-10-16 16:11:30 -0400 (Wed, 16 Oct 2024) EllapsedTime: 40.4 seconds RetCode: 0 Status: OK