Package: gep2pep Version: 1.24.0 Command: /Library/Frameworks/R.framework/Resources/bin/R CMD INSTALL gep2pep StartedAt: 2024-10-16 17:41:16 -0400 (Wed, 16 Oct 2024) EndedAt: 2024-10-16 17:41:36 -0400 (Wed, 16 Oct 2024) EllapsedTime: 19.7 seconds RetCode: 0 Status: OK