Package: gep2pep Version: 1.24.0 Command: rm -rf gep2pep.buildbin-libdir && mkdir gep2pep.buildbin-libdir && /Users/biocbuild/BBS/utils/build-universal.sh gep2pep_1.24.0.tar.gz /Library/Frameworks/R.framework/Resources/bin/R gep2pep.buildbin-libdir StartedAt: 2024-10-18 18:43:10 -0400 (Fri, 18 Oct 2024) EndedAt: 2024-10-18 18:43:34 -0400 (Fri, 18 Oct 2024) EllapsedTime: 24.2 seconds RetCode: 0 Status: OK PackageFile: gep2pep_1.24.0.tgz PackageFileSize: 461.9 KiB