Package: genomicInstability Version: 1.10.0 Command: rm -rf genomicInstability.buildbin-libdir && mkdir genomicInstability.buildbin-libdir && E:\biocbuild\bbs-3.19-bioc\R\bin\R.exe CMD INSTALL --build --library=genomicInstability.buildbin-libdir genomicInstability_1.10.0.tar.gz StartedAt: 2024-10-17 07:51:32 -0400 (Thu, 17 Oct 2024) EndedAt: 2024-10-17 07:52:08 -0400 (Thu, 17 Oct 2024) EllapsedTime: 35.8 seconds RetCode: 0 Status: OK PackageFile: genomicInstability_1.10.0.zip PackageFileSize: 1.088 MiB