Package: genomicInstability Version: 1.10.0 Command: chmod a+r genomicInstability -R && F:\biocbuild\bbs-3.19-bioc\R\bin\R.exe CMD build --keep-empty-dirs --no-resave-data genomicInstability StartedAt: 2024-06-26 19:08:08 -0400 (Wed, 26 Jun 2024) EndedAt: 2024-06-26 19:12:03 -0400 (Wed, 26 Jun 2024) EllapsedTime: 235.1 seconds RetCode: 0 Status: OK PackageFile: genomicInstability_1.10.0.tar.gz PackageFileSize: 1.029 MiB