Package: genomicInstability Version: 1.10.0 Command: rm -rf genomicInstability.buildbin-libdir && mkdir genomicInstability.buildbin-libdir && F:\biocbuild\bbs-3.19-bioc\R\bin\R.exe CMD INSTALL --build --library=genomicInstability.buildbin-libdir genomicInstability_1.10.0.tar.gz StartedAt: 2024-06-27 08:16:21 -0400 (Thu, 27 Jun 2024) EndedAt: 2024-06-27 08:16:59 -0400 (Thu, 27 Jun 2024) EllapsedTime: 38.8 seconds RetCode: 0 Status: OK PackageFile: genomicInstability_1.10.0.zip PackageFileSize: 1.088 MiB