Package: genomicInstability Version: 1.10.0 Command: /Library/Frameworks/R.framework/Resources/bin/R CMD build --keep-empty-dirs --no-resave-data genomicInstability StartedAt: 2024-10-16 19:30:34 -0400 (Wed, 16 Oct 2024) EndedAt: 2024-10-16 19:34:51 -0400 (Wed, 16 Oct 2024) EllapsedTime: 256.9 seconds RetCode: 0 Status: OK PackageFile: genomicInstability_1.10.0.tar.gz PackageFileSize: 1.211 MiB