Package: genomicInstability Version: 1.10.0 Command: /home/biocbuild/R/R-beta-2024-04-15_r86425/bin/R CMD build --keep-empty-dirs --no-resave-data genomicInstability StartedAt: 2024-05-09 00:31:12 -0000 (Thu, 09 May 2024) EndedAt: 2024-05-09 00:33:12 -0000 (Thu, 09 May 2024) EllapsedTime: 120.2 seconds RetCode: 0 Status: OK PackageFile: genomicInstability_1.10.0.tar.gz PackageFileSize: 1.212 MiB