Package: genomicInstability Version: 1.10.0 Command: rm -rf genomicInstability.buildbin-libdir && mkdir genomicInstability.buildbin-libdir && /Users/biocbuild/BBS/utils/build-universal.sh genomicInstability_1.10.0.tar.gz /Library/Frameworks/R.framework/Resources/bin/R genomicInstability.buildbin-libdir StartedAt: 2024-06-11 11:23:24 -0400 (Tue, 11 Jun 2024) EndedAt: 2024-06-11 11:24:15 -0400 (Tue, 11 Jun 2024) EllapsedTime: 50.1 seconds RetCode: 0 Status: OK PackageFile: genomicInstability_1.10.0.tgz PackageFileSize: 1.266 MiB