Package: genomicInstability Version: 1.10.0 Command: /Library/Frameworks/R.framework/Resources/bin/R CMD INSTALL genomicInstability StartedAt: 2024-10-16 17:50:38 -0400 (Wed, 16 Oct 2024) EndedAt: 2024-10-16 17:51:07 -0400 (Wed, 16 Oct 2024) EllapsedTime: 29.2 seconds RetCode: 0 Status: OK