Package: genomes Version: 3.34.0 Command: chmod a+r genomes -R && E:\biocbuild\bbs-3.19-bioc\R\bin\R.exe CMD build --keep-empty-dirs --no-resave-data genomes StartedAt: 2024-10-16 19:22:41 -0400 (Wed, 16 Oct 2024) EndedAt: 2024-10-16 19:22:52 -0400 (Wed, 16 Oct 2024) EllapsedTime: 10.2 seconds RetCode: 0 Status: OK PackageFile: genomes_3.34.0.tar.gz PackageFileSize: 36.05 KiB