Package: genomes Version: 3.34.0 Command: rm -rf genomes.buildbin-libdir && mkdir genomes.buildbin-libdir && E:\biocbuild\bbs-3.19-bioc\R\bin\R.exe CMD INSTALL --build --library=genomes.buildbin-libdir genomes_3.34.0.tar.gz StartedAt: 2024-10-17 07:51:21 -0400 (Thu, 17 Oct 2024) EndedAt: 2024-10-17 07:51:28 -0400 (Thu, 17 Oct 2024) EllapsedTime: 6.9 seconds RetCode: 0 Status: OK PackageFile: genomes_3.34.0.zip PackageFileSize: 50.25 KiB