Package: genomes Version: 3.34.0 Command: chmod a+r genomes -R && F:\biocbuild\bbs-3.19-bioc\R\bin\R.exe CMD build --keep-empty-dirs --no-resave-data genomes StartedAt: 2024-06-26 19:07:14 -0400 (Wed, 26 Jun 2024) EndedAt: 2024-06-26 19:07:26 -0400 (Wed, 26 Jun 2024) EllapsedTime: 11.8 seconds RetCode: 0 Status: OK PackageFile: genomes_3.34.0.tar.gz PackageFileSize: 35.27 KiB