Package: genomes Version: 3.34.0 Command: /Library/Frameworks/R.framework/Resources/bin/R CMD build --keep-empty-dirs --no-resave-data genomes StartedAt: 2024-10-16 19:29:31 -0400 (Wed, 16 Oct 2024) EndedAt: 2024-10-16 19:29:49 -0400 (Wed, 16 Oct 2024) EllapsedTime: 17.2 seconds RetCode: 0 Status: OK PackageFile: genomes_3.34.0.tar.gz PackageFileSize: 98.63 KiB