Package: genomes Version: 3.34.0 Command: /Library/Frameworks/R.framework/Resources/bin/R CMD check --install=check:genomes.install-out.txt --library=/Library/Frameworks/R.framework/Resources/library --no-vignettes --timings genomes_3.34.0.tar.gz StartedAt: 2024-06-09 20:34:11 -0400 (Sun, 09 Jun 2024) EndedAt: 2024-06-09 20:34:52 -0400 (Sun, 09 Jun 2024) EllapsedTime: 41.5 seconds RetCode: 0 Status: OK CheckDir: genomes.Rcheck Warnings: 0