Package: genomes Version: 3.34.0 Command: /Library/Frameworks/R.framework/Resources/bin/R CMD build --keep-empty-dirs --no-resave-data genomes StartedAt: 2024-06-09 22:02:09 -0400 (Sun, 09 Jun 2024) EndedAt: 2024-06-09 22:02:19 -0400 (Sun, 09 Jun 2024) EllapsedTime: 10.6 seconds RetCode: 0 Status: OK PackageFile: genomes_3.34.0.tar.gz PackageFileSize: 98.21 KiB