Package: genomes Version: 3.34.0 Command: /Library/Frameworks/R.framework/Resources/bin/R CMD INSTALL genomes StartedAt: 2024-10-16 15:43:43 -0400 (Wed, 16 Oct 2024) EndedAt: 2024-10-16 15:43:48 -0400 (Wed, 16 Oct 2024) EllapsedTime: 4.8 seconds RetCode: 0 Status: OK