Package: genomes Version: 3.34.0 Command: rm -rf genomes.buildbin-libdir && mkdir genomes.buildbin-libdir && /Users/biocbuild/BBS/utils/build-universal.sh genomes_3.34.0.tar.gz /Library/Frameworks/R.framework/Resources/bin/R genomes.buildbin-libdir StartedAt: 2024-10-18 18:40:04 -0400 (Fri, 18 Oct 2024) EndedAt: 2024-10-18 18:40:10 -0400 (Fri, 18 Oct 2024) EllapsedTime: 5.6 seconds RetCode: 0 Status: OK PackageFile: genomes_3.34.0.tgz PackageFileSize: 109.4 KiB