Package: genomeIntervals Version: 1.60.0 Command: E:\biocbuild\bbs-3.19-bioc\R\bin\R.exe CMD INSTALL genomeIntervals StartedAt: 2024-10-16 16:11:29 -0400 (Wed, 16 Oct 2024) EndedAt: 2024-10-16 16:12:42 -0400 (Wed, 16 Oct 2024) EllapsedTime: 73.3 seconds RetCode: 0 Status: OK