Package: genomeIntervals Version: 1.60.0 Command: /Library/Frameworks/R.framework/Resources/bin/R CMD build --keep-empty-dirs --no-resave-data genomeIntervals StartedAt: 2024-10-16 19:29:29 -0400 (Wed, 16 Oct 2024) EndedAt: 2024-10-16 19:30:26 -0400 (Wed, 16 Oct 2024) EllapsedTime: 56.9 seconds RetCode: 0 Status: OK PackageFile: genomeIntervals_1.60.0.tar.gz PackageFileSize: 256.3 KiB