Package: genomeIntervals Version: 1.60.0 Command: rm -rf genomeIntervals.buildbin-libdir && mkdir genomeIntervals.buildbin-libdir && /Users/biocbuild/BBS/utils/build-universal.sh genomeIntervals_1.60.0.tar.gz /Library/Frameworks/R.framework/Resources/bin/R genomeIntervals.buildbin-libdir StartedAt: 2024-10-17 16:14:18 -0400 (Thu, 17 Oct 2024) EndedAt: 2024-10-17 16:14:56 -0400 (Thu, 17 Oct 2024) EllapsedTime: 37.9 seconds RetCode: 0 Status: OK PackageFile: genomeIntervals_1.60.0.tgz PackageFileSize: 678.1 KiB