Package: genomeIntervals Version: 1.60.0 Command: /Library/Frameworks/R.framework/Resources/bin/R CMD check --install=check:genomeIntervals.install-out.txt --library=/Library/Frameworks/R.framework/Resources/library --no-vignettes --timings genomeIntervals_1.60.0.tar.gz StartedAt: 2024-06-10 16:42:01 -0400 (Mon, 10 Jun 2024) EndedAt: 2024-06-10 16:45:01 -0400 (Mon, 10 Jun 2024) EllapsedTime: 180.3 seconds RetCode: 0 Status: WARNINGS CheckDir: genomeIntervals.Rcheck Warnings: 1