Package: genomeIntervals Version: 1.60.0 Command: /Library/Frameworks/R.framework/Resources/bin/R CMD build --keep-empty-dirs --no-resave-data genomeIntervals StartedAt: 2024-06-09 22:02:01 -0400 (Sun, 09 Jun 2024) EndedAt: 2024-06-09 22:02:30 -0400 (Sun, 09 Jun 2024) EllapsedTime: 29.1 seconds RetCode: 0 Status: OK PackageFile: genomeIntervals_1.60.0.tar.gz PackageFileSize: 255.9 KiB