Package: genomeIntervals Version: 1.60.0 Command: rm -rf genomeIntervals.buildbin-libdir && mkdir genomeIntervals.buildbin-libdir && /Users/biocbuild/BBS/utils/build-universal.sh genomeIntervals_1.60.0.tar.gz /Library/Frameworks/R.framework/Resources/bin/R genomeIntervals.buildbin-libdir StartedAt: 2024-06-11 11:22:34 -0400 (Tue, 11 Jun 2024) EndedAt: 2024-06-11 11:23:01 -0400 (Tue, 11 Jun 2024) EllapsedTime: 26.4 seconds RetCode: 0 Status: OK PackageFile: genomeIntervals_1.60.0.tgz PackageFileSize: 682.8 KiB