Package: genomeIntervals Version: 1.60.0 Command: /Library/Frameworks/R.framework/Resources/bin/R CMD INSTALL genomeIntervals StartedAt: 2024-10-16 15:52:08 -0400 (Wed, 16 Oct 2024) EndedAt: 2024-10-16 15:52:24 -0400 (Wed, 16 Oct 2024) EllapsedTime: 15.6 seconds RetCode: 0 Status: OK