Package: genomation Version: 1.36.0 Command: rm -rf genomation.buildbin-libdir && mkdir genomation.buildbin-libdir && E:\biocbuild\bbs-3.19-bioc\R\bin\R.exe CMD INSTALL --build --library=genomation.buildbin-libdir genomation_1.36.0.tar.gz StartedAt: 2024-10-17 07:51:15 -0400 (Thu, 17 Oct 2024) EndedAt: 2024-10-17 07:52:34 -0400 (Thu, 17 Oct 2024) EllapsedTime: 79.3 seconds RetCode: 0 Status: OK PackageFile: genomation_1.36.0.zip PackageFileSize: 3.324 MiB