Package: genoCN Version: 1.56.0 Maintainer: Wei Sun MaintainerEmail: wsun at bios.unc.edu git_url: https://git.bioconductor.org/packages/genoCN git_branch: RELEASE_3_19 git_last_commit: 2028997 git_last_commit_date: 2024-04-30 10:21:30 -0400 (Tue, 30 Apr 2024)