Package: geneplotter Version: 1.82.0 Command: F:\biocbuild\bbs-3.19-bioc\R\bin\R.exe CMD check --no-multiarch --install=check:geneplotter.install-out.txt --library=F:\biocbuild\bbs-3.19-bioc\R\library --no-vignettes --timings geneplotter_1.82.0.tar.gz StartedAt: 2024-06-27 01:56:54 -0400 (Thu, 27 Jun 2024) EndedAt: 2024-06-27 01:59:11 -0400 (Thu, 27 Jun 2024) EllapsedTime: 136.9 seconds RetCode: 0 Status: OK CheckDir: geneplotter.Rcheck Warnings: 0