Package: geneplotter Version: 1.82.0 Command: /home/biocbuild/bbs-3.19-bioc/R/bin/R CMD check --install=check:geneplotter.install-out.txt --library=/home/biocbuild/bbs-3.19-bioc/R/site-library --timings geneplotter_1.82.0.tar.gz StartedAt: 2024-10-17 00:43:06 -0400 (Thu, 17 Oct 2024) EndedAt: 2024-10-17 00:45:13 -0400 (Thu, 17 Oct 2024) EllapsedTime: 127.4 seconds RetCode: 0 Status: OK CheckDir: geneplotter.Rcheck Warnings: 0