Package: geneplotter Version: 1.82.0 Command: /Library/Frameworks/R.framework/Resources/bin/R CMD check --install=check:geneplotter.install-out.txt --library=/Library/Frameworks/R.framework/Resources/library --no-vignettes --timings geneplotter_1.82.0.tar.gz StartedAt: 2024-10-17 05:45:06 -0400 (Thu, 17 Oct 2024) EndedAt: 2024-10-17 05:49:38 -0400 (Thu, 17 Oct 2024) EllapsedTime: 272.1 seconds RetCode: 0 Status: OK CheckDir: geneplotter.Rcheck Warnings: 0