Package: geneplast Version: 1.30.0 Command: chmod a+r geneplast -R && E:\biocbuild\bbs-3.19-bioc\R\bin\R.exe CMD build --keep-empty-dirs --no-resave-data geneplast StartedAt: 2024-10-16 19:21:23 -0400 (Wed, 16 Oct 2024) EndedAt: 2024-10-16 19:22:16 -0400 (Wed, 16 Oct 2024) EllapsedTime: 52.4 seconds RetCode: 0 Status: OK PackageFile: geneplast_1.30.0.tar.gz PackageFileSize: 7.074 MiB